BEGIN:VCALENDAR
VERSION:2.0
PRODID:-//Squarespace Inc/Squarespace 6//v6//EN
BEGIN:VEVENT
UID:5f456f8d29477c0af7f4c9ef@squarespace.com
DTSTAMP:20200825T200756Z
DTSTART:20200922T084000Z
DTEND:20200922T094000Z
SUMMARY:zoom swimnastics (22nd September)
END:VEVENT
END:VCALENDAR
