BEGIN:VCALENDAR
VERSION:2.0
PRODID:-//Squarespace Inc/Squarespace 6//v6//EN
BEGIN:VEVENT
UID:5f8f6f46c83ade758360aa3c@squarespace.com
DTSTAMP:20201020T231427Z
DTSTART:20201124T074000Z
DTEND:20201124T084000Z
SUMMARY:zoom swimnastics (24th November)
END:VEVENT
END:VCALENDAR
