BEGIN:VCALENDAR
VERSION:2.0
PRODID:-//Squarespace Inc/Squarespace 6//v6//EN
BEGIN:VEVENT
UID:5f456fa4e15ad13bd1cd6cd7@squarespace.com
DTSTAMP:20200825T200818Z
DTSTART:20200924T084000Z
DTEND:20200924T094000Z
SUMMARY:zoom swimnastics (24th September)
END:VEVENT
END:VCALENDAR
