BEGIN:VCALENDAR
VERSION:2.0
PRODID:-//Squarespace Inc/Squarespace 6//v6//EN
BEGIN:VEVENT
UID:5fd92fcd1e221810b5dae44b@squarespace.com
DTSTAMP:20201215T215124Z
DTSTART:20210126T074000Z
DTEND:20210126T084000Z
SUMMARY:zoom swimnastics (26th January)
END:VEVENT
END:VCALENDAR
