BEGIN:VCALENDAR
VERSION:2.0
PRODID:-//Squarespace Inc/Squarespace 6//v6//EN
BEGIN:VEVENT
UID:5f6c250df5c0333cad81ddaf@squarespace.com
DTSTAMP:20200924T044827Z
DTSTART:20201027T074000Z
DTEND:20201027T084000Z
SUMMARY:zoom swimnastics (27th October)
END:VEVENT
END:VCALENDAR
