BEGIN:VCALENDAR
VERSION:2.0
PRODID:-//Squarespace Inc/Squarespace 6//v6//EN
BEGIN:VEVENT
UID:5fd92f93bf6e125e3a451c11@squarespace.com
DTSTAMP:20201215T215025Z
DTSTART:20201229T074000Z
DTEND:20201229T084000Z
SUMMARY:zoom swimnastics (29th December)
END:VEVENT
END:VCALENDAR
