BEGIN:VCALENDAR
VERSION:2.0
PRODID:-//Squarespace Inc/Squarespace 6//v6//EN
BEGIN:VEVENT
UID:5f6c25249ca0975099d741e7@squarespace.com
DTSTAMP:20200924T044850Z
DTSTART:20201029T074000Z
DTEND:20201029T084000Z
SUMMARY:zoom swimnastics (29th October)
END:VEVENT
END:VCALENDAR
