BEGIN:VCALENDAR
VERSION:2.0
PRODID:-//Squarespace Inc/Squarespace 6//v6//EN
BEGIN:VEVENT
UID:5f456fb84517833f5d7c26c6@squarespace.com
DTSTAMP:20200825T200837Z
DTSTART:20200929T084000Z
DTEND:20200929T094000Z
SUMMARY:zoom swimnastics (29th September)
END:VEVENT
END:VCALENDAR
