BEGIN:VCALENDAR
VERSION:2.0
PRODID:-//Squarespace Inc/Squarespace 6//v6//EN
BEGIN:VEVENT
UID:5fd92fe032c9e2255e93bf57@squarespace.com
DTSTAMP:20201215T215145Z
DTSTART:20210202T074000Z
DTEND:20210202T084000Z
SUMMARY:zoom swimnastics (2nd February)
END:VEVENT
END:VCALENDAR
