BEGIN:VCALENDAR
VERSION:2.0
PRODID:-//Squarespace Inc/Squarespace 6//v6//EN
BEGIN:VEVENT
UID:5f6c2489c03bc272097cf0a0@squarespace.com
DTSTAMP:20200924T044617Z
DTSTART:20201006T074000Z
DTEND:20201006T084000Z
SUMMARY:zoom swimnastics (6th October)
END:VEVENT
END:VCALENDAR
