BEGIN:VCALENDAR
VERSION:2.0
PRODID:-//Squarespace Inc/Squarespace 6//v6//EN
BEGIN:VEVENT
UID:5fa3855ef42eb56ee6dd7eda@squarespace.com
DTSTAMP:20201105T045407Z
DTSTART:20201208T074000Z
DTEND:20201208T084000Z
SUMMARY:zoom swimnastics (8th December)
END:VEVENT
END:VCALENDAR
