BEGIN:VCALENDAR
VERSION:2.0
PRODID:-//Squarespace Inc/Squarespace 6//v6//EN
BEGIN:VEVENT
UID:5f6c24a2bd8f3716b594fe69@squarespace.com
DTSTAMP:20200924T044638Z
DTSTART:20201008T074000Z
DTEND:20201008T084000Z
SUMMARY:zoom swimnastics (8th October)
END:VEVENT
END:VCALENDAR
