BEGIN:VCALENDAR
VERSION:2.0
PRODID:-//Squarespace Inc/Squarespace 6//v6//EN
BEGIN:VEVENT
UID:5f5ef44488ce6e3f578f9263@squarespace.com
DTSTAMP:20200914T044049Z
DTSTART:20201009T220000Z
DTEND:20201009T230000Z
SUMMARY:Zoom swimnastics session (9.00am on Saturday 10th October)
END:VEVENT
END:VCALENDAR
