BEGIN:VCALENDAR
VERSION:2.0
PRODID:-//Squarespace Inc/Squarespace 6//v6//EN
BEGIN:VEVENT
UID:5ed709a4659fc92f86582da6@squarespace.com
DTSTAMP:20200603T022430Z
DTSTART:20200610T073000Z
DTEND:20200610T083000Z
SUMMARY:Zoom swimnastics session (5.30pm on Wednesday 10th June)
END:VEVENT
END:VCALENDAR
