BEGIN:VCALENDAR
VERSION:2.0
PRODID:-//Squarespace Inc/Squarespace 6//v6//EN
BEGIN:VEVENT
UID:5f85254c4cb5bf0e569be2ba@squarespace.com
DTSTAMP:20201013T035615Z
DTSTART:20201111T063000Z
DTEND:20201111T073000Z
SUMMARY:Zoom swimnastics session (5.30pm on Wednesday 11th November)
END:VEVENT
END:VCALENDAR
