BEGIN:VCALENDAR
VERSION:2.0
PRODID:-//Squarespace Inc/Squarespace 6//v6//EN
BEGIN:VEVENT
UID:5f852c22ed7b405b145aed8b@squarespace.com
DTSTAMP:20201204T232236Z
DTSTART:20201211T223000Z
DTEND:20201211T233000Z
SUMMARY:Zoom swimnastics session (9.30am on Saturday 12th December)
END:VEVENT
END:VCALENDAR
