BEGIN:VCALENDAR
VERSION:2.0
PRODID:-//Squarespace Inc/Squarespace 6//v6//EN
BEGIN:VEVENT
UID:5f309daf9c22550d4dcd89a5@squarespace.com
DTSTAMP:20200810T010708Z
DTSTART:20200911T230000Z
DTEND:20200912T000000Z
SUMMARY:Zoom swimnastics session (9.00am on Saturday 12th September)
END:VEVENT
END:VCALENDAR
