BEGIN:VCALENDAR
VERSION:2.0
PRODID:-//Squarespace Inc/Squarespace 6//v6//EN
BEGIN:VEVENT
UID:5f8525b11e9bd37303cc3cf8@squarespace.com
DTSTAMP:20201013T035751Z
DTSTART:20201113T220000Z
DTEND:20201113T230000Z
SUMMARY:Zoom swimnastics session (9.00am on Saturday 14th November)
END:VEVENT
END:VCALENDAR
