BEGIN:VCALENDAR
VERSION:2.0
PRODID:-//Squarespace Inc/Squarespace 6//v6//EN
BEGIN:VEVENT
UID:5f5ef48409e76456db2c1e76@squarespace.com
DTSTAMP:20200914T044157Z
DTSTART:20201014T063000Z
DTEND:20201014T073000Z
SUMMARY:Zoom swimnastics session (5.30pm on Wednesday 14th October)
END:VEVENT
END:VCALENDAR
