BEGIN:VCALENDAR
VERSION:2.0
PRODID:-//Squarespace Inc/Squarespace 6//v6//EN
BEGIN:VEVENT
UID:5ef96d834414c650912e3ad9@squarespace.com
DTSTAMP:20200703T083032Z
DTSTART:20200715T073000Z
DTEND:20200715T083000Z
SUMMARY:Zoom swimnastics session (5.30pm on Wednesday 15th July)
END:VEVENT
END:VCALENDAR
