BEGIN:VCALENDAR
VERSION:2.0
PRODID:-//Squarespace Inc/Squarespace 6//v6//EN
BEGIN:VEVENT
UID:5f852cd4814b365b14d53434@squarespace.com
DTSTAMP:20201013T042817Z
DTSTART:20201216T063000Z
DTEND:20201216T073000Z
SUMMARY:Zoom swimnastics session (5.30pm on Wednesday 16th December)
END:VEVENT
END:VCALENDAR
