BEGIN:VCALENDAR
VERSION:2.0
PRODID:-//Squarespace Inc/Squarespace 6//v6//EN
BEGIN:VEVENT
UID:5f5ef4bb88ce6e3f578fa42a@squarespace.com
DTSTAMP:20200914T044248Z
DTSTART:20201016T220000Z
DTEND:20201016T230000Z
SUMMARY:Zoom swimnastics session (9.00am on Saturday 17th October)
END:VEVENT
END:VCALENDAR
