BEGIN:VCALENDAR
VERSION:2.0
PRODID:-//Squarespace Inc/Squarespace 6//v6//EN
BEGIN:VEVENT
UID:5ed70b503b8e990ffc243a57@squarespace.com
DTSTAMP:20200616T231743Z
DTSTART:20200617T073000Z
DTEND:20200617T083000Z
SUMMARY:Zoom swimnastics session (5.30pm on Wednesday 17th June)
END:VEVENT
END:VCALENDAR
