BEGIN:VCALENDAR
VERSION:2.0
PRODID:-//Squarespace Inc/Squarespace 6//v6//EN
BEGIN:VEVENT
UID:5f852d057c1e2a40a0e427c0@squarespace.com
DTSTAMP:20201204T232253Z
DTSTART:20201218T223000Z
DTEND:20201218T233000Z
SUMMARY:Zoom swimnastics session (9.30am on Saturday 19th December)
END:VEVENT
END:VCALENDAR
