BEGIN:VCALENDAR
VERSION:2.0
PRODID:-//Squarespace Inc/Squarespace 6//v6//EN
BEGIN:VEVENT
UID:5f309e51f53bbe5ccc9f87fb@squarespace.com
DTSTAMP:20200810T010948Z
DTSTART:20200918T230000Z
DTEND:20200919T000000Z
SUMMARY:Zoom swimnastics session (9.00am on Saturday 19th September)
END:VEVENT
END:VCALENDAR
