BEGIN:VCALENDAR
VERSION:2.0
PRODID:-//Squarespace Inc/Squarespace 6//v6//EN
BEGIN:VEVENT
UID:5f0d11c0c60e670497110e7d@squarespace.com
DTSTAMP:20200714T020040Z
DTSTART:20200814T230000Z
DTEND:20200815T000000Z
SUMMARY:Zoom swimnastics session (9.00am on Saturday 15th August)
END:VEVENT
END:VCALENDAR
