BEGIN:VCALENDAR
VERSION:2.0
PRODID:-//Squarespace Inc/Squarespace 6//v6//EN
BEGIN:VEVENT
UID:5f0d12186a8632767c1b3fd6@squarespace.com
DTSTAMP:20200714T020208Z
DTSTART:20200821T230000Z
DTEND:20200822T000000Z
SUMMARY:Zoom swimnastics session (9.00am on Saturday 22nd August)
END:VEVENT
END:VCALENDAR
