BEGIN:VCALENDAR
VERSION:2.0
PRODID:-//Squarespace Inc/Squarespace 6//v6//EN
BEGIN:VEVENT
UID:5f0d11699aba841612890cfd@squarespace.com
DTSTAMP:20200714T015916Z
DTSTART:20200807T230000Z
DTEND:20200808T000000Z
SUMMARY:Zoom swimnastics session (9.00am on Saturday 8th August)
END:VEVENT
END:VCALENDAR
