BEGIN:VCALENDAR
VERSION:2.0
PRODID:-//Squarespace Inc/Squarespace 6//v6//EN
BEGIN:VEVENT
UID:5f03f3a0a3e5fe628cd840fc@squarespace.com
DTSTAMP:20200707T040155Z
DTSTART:20200731T230000Z
DTEND:20200801T000000Z
SUMMARY:Zoom swimnastics session (9.00am on Saturday 1st August) 
END:VEVENT
END:VCALENDAR
