BEGIN:VCALENDAR
VERSION:2.0
PRODID:-//Squarespace Inc/Squarespace 6//v6//EN
BEGIN:VEVENT
UID:5d800fc9ba9a9b3ca50b0076@squarespace.com
DTSTAMP:20190918T044935Z
DTSTART:20191001T003000Z
DTEND:20191001T013000Z
SUMMARY:school holiday swimnastics session (tuesday 1st October)
GEO:-37.823176;145.046538
LOCATION:crossfit hawthorn east\, 9 Montrose St\, Hawthorn East VIC 3123\, 
 Hawthorn East\, Aust
END:VEVENT
END:VCALENDAR
