BEGIN:VCALENDAR
VERSION:2.0
PRODID:-//Squarespace Inc/Squarespace 6//v6//EN
BEGIN:VEVENT
UID:5b7ba89f70a6ad69e17c1dac@squarespace.com
DTSTAMP:20180821T062749Z
DTSTART:20181001T230000Z
DTEND:20181003T060000Z
SUMMARY:Term 3 holidays - 2-3 October (Sydney)
GEO:-33.86882;151.209296
LOCATION:Sydney\, Australia
END:VEVENT
END:VCALENDAR
