BEGIN:VCALENDAR
VERSION:2.0
PRODID:-//Squarespace Inc/Squarespace 6//v6//EN
BEGIN:VEVENT
UID:5b7bad88562fa70499599fcb@squarespace.com
DTSTAMP:20180821T062644Z
DTSTART:20180923T230000Z
DTEND:20180925T110000Z
SUMMARY:Term 3 holidays - 24-25 September (Melbourne)
GEO:-37.813628;144.963058
LOCATION:Melbourne\, Australia
END:VEVENT
END:VCALENDAR
