BEGIN:VCALENDAR
VERSION:2.0
PRODID:-//Squarespace Inc/Squarespace 6//v6//EN
BEGIN:VEVENT
UID:5b7ba9470e2e721927f450bb@squarespace.com
DTSTAMP:20180821T062846Z
DTSTART:20181003T230000Z
DTEND:20181006T110000Z
SUMMARY:Term 3 holidays - 4-6 October (Melbourne)
GEO:-37.813628;144.963058
LOCATION:Melbourne\, Australia
END:VEVENT
END:VCALENDAR
