BEGIN:VCALENDAR
VERSION:2.0
PRODID:-//Squarespace Inc/Squarespace 6//v6//EN
BEGIN:VEVENT
UID:5bc985f60852297c292f23e8@squarespace.com
DTSTAMP:20181205T214421Z
DTSTART:20181117T040000Z
DTEND:20181208T053000Z
SUMMARY:cross performance training
GEO:-37.843658;145.044653
LOCATION:hawthorn gymnastics centre\, 21 Cato Lane\, Hawthorn East\, VIC\, 
 3123\, Australia
END:VEVENT
END:VCALENDAR
