BEGIN:VCALENDAR
VERSION:2.0
PRODID:-//Squarespace Inc/Squarespace 6//v6//EN
BEGIN:VEVENT
UID:5bbe931a419202b3a545fd79@squarespace.com
DTSTAMP:20181112T043710Z
DTSTART:20181208T220000Z
DTEND:20181208T233000Z
SUMMARY:swimnastics at msac (9 december)
GEO:-37.843141;144.961508
LOCATION:melbourne sports and aquatic centre\, 30 Aughtie Drive\, Albert Pa
 rk\, VIC\, 3206\, Australia
END:VEVENT
END:VCALENDAR
