BEGIN:VCALENDAR
VERSION:2.0
PRODID:-//Squarespace Inc/Squarespace 6//v6//EN
BEGIN:VEVENT
UID:5f85266c1251ce039944d3d4@squarespace.com
DTSTAMP:20201013T040058Z
DTSTART:20201120T220000Z
DTEND:20201120T230000Z
SUMMARY:Zoom swimnastics session (9.00am on Saturday 21st November)
END:VEVENT
END:VCALENDAR
