BEGIN:VCALENDAR
VERSION:2.0
PRODID:-//Squarespace Inc/Squarespace 6//v6//EN
BEGIN:VEVENT
UID:5f5ef50852f87c233ca00de0@squarespace.com
DTSTAMP:20200914T044407Z
DTSTART:20201021T063000Z
DTEND:20201021T073000Z
SUMMARY:Zoom swimnastics session (5.30pm on Wednesday 21st October)
END:VEVENT
END:VCALENDAR
