BEGIN:VCALENDAR
VERSION:2.0
PRODID:-//Squarespace Inc/Squarespace 6//v6//EN
BEGIN:VEVENT
UID:5fc84e71970db930d9bc7317@squarespace.com
DTSTAMP:20201207T062309Z
DTSTART:20201222T063000Z
DTEND:20201222T073000Z
SUMMARY:Zoom swimnastics session (5.30pm on Tuesday 22nd December)
END:VEVENT
END:VCALENDAR
