BEGIN:VCALENDAR
VERSION:2.0
PRODID:-//Squarespace Inc/Squarespace 6//v6//EN
BEGIN:VEVENT
UID:5f03f3138deac10739967cc6@squarespace.com
DTSTAMP:20200707T035929Z
DTSTART:20200722T073000Z
DTEND:20200722T083000Z
SUMMARY:Zoom swimnastics session (5.30pm on Wednesday 22nd July)
END:VEVENT
END:VCALENDAR
