BEGIN:VCALENDAR
VERSION:2.0
PRODID:-//Squarespace Inc/Squarespace 6//v6//EN
BEGIN:VEVENT
UID:5f309ea2be6db12b5ffba6d1@squarespace.com
DTSTAMP:20200810T011112Z
DTSTART:20200923T073000Z
DTEND:20200923T083000Z
SUMMARY:Zoom swimnastics session (5.30pm on Wednesday 23rd September)
END:VEVENT
END:VCALENDAR
