BEGIN:VCALENDAR
VERSION:2.0
PRODID:-//Squarespace Inc/Squarespace 6//v6//EN
BEGIN:VEVENT
UID:5d7ede0078e10150b410a2c9@squarespace.com
DTSTAMP:20191107T235855Z
DTSTART:20191124T030000Z
DTEND:20191124T040000Z
SUMMARY:sunday swimnastics (24th November)
GEO:-37.823176;145.046538
LOCATION:crossfit hawthor east\, 9 Montrose Street\, Hawthorn East\, Austra
 lia
END:VEVENT
END:VCALENDAR
