BEGIN:VCALENDAR
VERSION:2.0
PRODID:-//Squarespace Inc/Squarespace 6//v6//EN
BEGIN:VEVENT
UID:5f5ef53ecc4aa14cfea3048c@squarespace.com
DTSTAMP:20201012T232248Z
DTSTART:20201023T220000Z
DTEND:20201023T230000Z
SUMMARY:Zoom swimnastics session (9.00am on Saturday 24th October)
END:VEVENT
END:VCALENDAR
