BEGIN:VCALENDAR
VERSION:2.0
PRODID:-//Squarespace Inc/Squarespace 6//v6//EN
BEGIN:VEVENT
UID:5ed7113032f1880e24748083@squarespace.com
DTSTAMP:20200616T231844Z
DTSTART:20200624T073000Z
DTEND:20200624T083000Z
SUMMARY:Zoom swimnastics session (5.30pm on Wednesday 24th June)
END:VEVENT
END:VCALENDAR
