BEGIN:VCALENDAR
VERSION:2.0
PRODID:-//Squarespace Inc/Squarespace 6//v6//EN
BEGIN:VEVENT
UID:5f85277daf94213b311b4846@squarespace.com
DTSTAMP:20201013T040536Z
DTSTART:20201125T063000Z
DTEND:20201125T073000Z
SUMMARY:Zoom swimnastics session (5.30pm on Wednesday 25th November)
END:VEVENT
END:VCALENDAR
