BEGIN:VCALENDAR
VERSION:2.0
PRODID:-//Squarespace Inc/Squarespace 6//v6//EN
BEGIN:VEVENT
UID:5f0d1313f5ef6a1329319ab3@squarespace.com
DTSTAMP:20200714T020626Z
DTSTART:20200828T230000Z
DTEND:20200829T000000Z
SUMMARY:Zoom swimnastics session (9.00am on Saturday 29th August)
END:VEVENT
END:VCALENDAR
