BEGIN:VCALENDAR
VERSION:2.0
PRODID:-//Squarespace Inc/Squarespace 6//v6//EN
BEGIN:VEVENT
UID:5f03f33f61f6c0386c14406b@squarespace.com
DTSTAMP:20200707T040014Z
DTSTART:20200724T230000Z
DTEND:20200725T000000Z
SUMMARY:Zoom swimnastics session (9.00am on Saturday 25th July)
END:VEVENT
END:VCALENDAR
