BEGIN:VCALENDAR
VERSION:2.0
PRODID:-//Squarespace Inc/Squarespace 6//v6//EN
BEGIN:VEVENT
UID:5fd93074b8c3bf2fc80a8ebe@squarespace.com
DTSTAMP:20201215T215423Z
DTSTART:20210126T063000Z
DTEND:20210126T073000Z
SUMMARY:Zoom swimnastics session (5.30pm on Tuesday 26th January)
END:VEVENT
END:VCALENDAR
