BEGIN:VCALENDAR
VERSION:2.0
PRODID:-//Squarespace Inc/Squarespace 6//v6//EN
BEGIN:VEVENT
UID:5f309edc649257471c69d589@squarespace.com
DTSTAMP:20200810T011209Z
DTSTART:20200925T230000Z
DTEND:20200926T000000Z
SUMMARY:Zoom swimnastics session (9.00am on Saturday 26th September)
END:VEVENT
END:VCALENDAR
