BEGIN:VCALENDAR
VERSION:2.0
PRODID:-//Squarespace Inc/Squarespace 6//v6//EN
BEGIN:VEVENT
UID:5ebcc2fcf2693064b3f0ee2f@squarespace.com
DTSTAMP:20200514T040332Z
DTSTART:20200527T073000Z
DTEND:20200527T083000Z
SUMMARY:Zoom swimnastics session (5.30pm on Wednesday 27th May)
END:VEVENT
END:VCALENDAR
