BEGIN:VCALENDAR
VERSION:2.0
PRODID:-//Squarespace Inc/Squarespace 6//v6//EN
BEGIN:VEVENT
UID:5f8527da8274f45959e40077@squarespace.com
DTSTAMP:20201013T040705Z
DTSTART:20201127T220000Z
DTEND:20201127T230000Z
SUMMARY:Zoom swimnastics session (9.00am on Saturday 28th November)
END:VEVENT
END:VCALENDAR
